BEGIN:VCALENDAR
VERSION:2.0
PRODID:DPCALENDAR
CALSCALE:GREGORIAN
X-WR-TIMEZONE:UTC
BEGIN:VEVENT
DTSTART:20150827T080000Z
DTEND:20150827T100000Z
UID:ed931b01113631b36ff257d2ac85fe5e
SUMMARY:Совет школы
DTSTAMP:20150820T091402Z
DESCRIPTION:Совет школы
X-ALT-DESC;FMTTYPE=text/html:<p>Совет школы</p>
LOCATION:37 просп. Победы\, 357736 Кисловодск\, Ставропольский край\, Россия
GEO:43.91658010;42.71999880
X-ACCESS:1
X-MODIFIED:20150820T114113Z
X-HITS:31
X-URL:
X-COLOR:3366CC
END:VEVENT
BEGIN:VEVENT
DTSTART:20150831T080000Z
DTEND:20150831T100000Z
UID:6da9c8022cab8df49a777d7efa54cc2f
SUMMARY:Педсовет
DTSTAMP:20150820T085950Z
DESCRIPTION:Повестка педагогического совета\N1. Выборы секретаря педагогического совета.\N2. Утверждение учебных планов и программ.\N3. Утверждение плана учебно-воспитательной работы.\N4. Разное.
X-ALT-DESC;FMTTYPE=text/html:<p>Повестка педагогического совета</p><p>1. Выборы секретаря педагогического совета.</p><p>2. Утверждение учебных планов и программ.</p><p>3. Утверждение плана учебно-воспитательной работы.</p><p>4. Разное.</p>
LOCATION:37 просп. Победы\, 357736 Кисловодск\, Ставропольский край\, Россия
GEO:43.91658010;42.71999880
X-ACCESS:1
X-MODIFIED:20150820T112941Z
X-HITS:9
X-URL:
X-COLOR:3366CC
END:VEVENT
END:VCALENDAR